BEGIN:VCALENDAR
VERSION:2.0
PRODID:icalendar-ruby
CALSCALE:GREGORIAN
BEGIN:VEVENT
DTSTAMP:20260422T060903Z
UID:e04ee8b2-19d2-4846-8f73-d328a3776c83
DTSTART;TZID=Pacific/Auckland:20260422T190000
DTEND;TZID=Pacific/Auckland:20260422T193000
DESCRIPTION:Property ID# 664675
SUMMARY:Openhome for 7 Bluebird Lane
END:VEVENT
END:VCALENDAR
