BEGIN:VCALENDAR
VERSION:2.0
PRODID:icalendar-ruby
CALSCALE:GREGORIAN
BEGIN:VEVENT
DTSTAMP:20260419T135445Z
UID:9f5edfcd-81db-4932-906f-f13689a16663
DTSTART;TZID=Pacific/Auckland:20260418T135000
DTEND;TZID=Pacific/Auckland:20260418T142000
DESCRIPTION:Property ID# 1007417
SUMMARY:Openhome for 4/161 Arnold Street
END:VEVENT
END:VCALENDAR
